BEGIN:VCALENDAR
VERSION:2.0
PRODID:-//Albert-Schweitzer-Gymnasium Hürth - ECPv6.6.1//NONSGML v1.0//EN
CALSCALE:GREGORIAN
METHOD:PUBLISH
X-WR-CALNAME:Albert-Schweitzer-Gymnasium Hürth
X-ORIGINAL-URL:https://homepage.asg-huerth.de
X-WR-CALDESC:Veranstaltungen für Albert-Schweitzer-Gymnasium Hürth
REFRESH-INTERVAL;VALUE=DURATION:PT1H
X-Robots-Tag:noindex
X-PUBLISHED-TTL:PT1H
BEGIN:VTIMEZONE
TZID:Europe/Berlin
BEGIN:DAYLIGHT
TZOFFSETFROM:+0100
TZOFFSETTO:+0200
TZNAME:CEST
DTSTART:20250330T010000
END:DAYLIGHT
BEGIN:STANDARD
TZOFFSETFROM:+0200
TZOFFSETTO:+0100
TZNAME:CET
DTSTART:20251026T010000
END:STANDARD
END:VTIMEZONE
BEGIN:VEVENT
DTSTART;VALUE=DATE:20251119
DTEND;VALUE=DATE:20251122
DTSTAMP:20260425T061241
CREATED:20251024T150306Z
LAST-MODIFIED:20260115T220639Z
UID:14542-1763510400-1763769599@homepage.asg-huerth.de
SUMMARY:9/EF: Spijkenisse-Austausch
DESCRIPTION:
URL:https://homepage.asg-huerth.de/terminkalender/9-ef-spijkenisse-austausch-2/
CATEGORIES:2025/26,Erstes Halbjahr
END:VEVENT
BEGIN:VEVENT
DTSTART;VALUE=DATE:20251119
DTEND;VALUE=DATE:20251122
DTSTAMP:20260425T061241
CREATED:20251024T150306Z
LAST-MODIFIED:20260115T220639Z
UID:14543-1763510400-1763769599@homepage.asg-huerth.de
SUMMARY:ME-Infotruck
DESCRIPTION:
URL:https://homepage.asg-huerth.de/terminkalender/me-infotruck-2/
CATEGORIES:2025/26,Erstes Halbjahr
END:VEVENT
BEGIN:VEVENT
DTSTART;VALUE=DATE:20251121
DTEND;VALUE=DATE:20251122
DTSTAMP:20260425T061241
CREATED:20251024T150306Z
LAST-MODIFIED:20260115T220639Z
UID:14544-1763683200-1763769599@homepage.asg-huerth.de
SUMMARY:Q1 Abgabe der Fachwahl für Facharbeit bis 12Uhr
DESCRIPTION:
URL:https://homepage.asg-huerth.de/terminkalender/q1-abgabe-der-fachwahl-fuer-facharbeit-bis-12uhr-2/
CATEGORIES:2025/26,Erstes Halbjahr
END:VEVENT
END:VCALENDAR