BEGIN:VCALENDAR
VERSION:2.0
PRODID:-//Albert-Schweitzer-Gymnasium Hürth - ECPv6.6.1//NONSGML v1.0//EN
CALSCALE:GREGORIAN
METHOD:PUBLISH
X-ORIGINAL-URL:https://homepage.asg-huerth.de
X-WR-CALDESC:Veranstaltungen für Albert-Schweitzer-Gymnasium Hürth
REFRESH-INTERVAL;VALUE=DURATION:PT1H
X-Robots-Tag:noindex
X-PUBLISHED-TTL:PT1H
BEGIN:VTIMEZONE
TZID:Europe/Berlin
BEGIN:DAYLIGHT
TZOFFSETFROM:+0100
TZOFFSETTO:+0200
TZNAME:CEST
DTSTART:20260329T010000
END:DAYLIGHT
BEGIN:STANDARD
TZOFFSETFROM:+0200
TZOFFSETTO:+0100
TZNAME:CET
DTSTART:20261025T010000
END:STANDARD
END:VTIMEZONE
BEGIN:VEVENT
DTSTART;TZID=Europe/Berlin:20260528T090000
DTEND;TZID=Europe/Berlin:20260528T113000
DTSTAMP:20260424T230026
CREATED:20260107T180652Z
LAST-MODIFIED:20260211T143545Z
UID:15273-1779958800-1779967800@homepage.asg-huerth.de
SUMMARY:10: ZP10 Mathe
DESCRIPTION:
URL:https://homepage.asg-huerth.de/terminkalender/__trashed-32__trashed/
CATEGORIES:Zweites Halbjahr
END:VEVENT
BEGIN:VEVENT
DTSTART;TZID=Europe/Berlin:20260528T150000
DTEND;TZID=Europe/Berlin:20260528T173000
DTSTAMP:20260424T230026
CREATED:20260107T180652Z
LAST-MODIFIED:20260211T143545Z
UID:15274-1779980400-1779989400@homepage.asg-huerth.de
SUMMARY:neue 5: Kennenlernnachmittag
DESCRIPTION:
URL:https://homepage.asg-huerth.de/terminkalender/__trashed-31__trashed/
CATEGORIES:Zweites Halbjahr
END:VEVENT
END:VCALENDAR