BEGIN:VCALENDAR
VERSION:2.0
PRODID:-//Albert-Schweitzer-Gymnasium Hürth - ECPv6.6.1//NONSGML v1.0//EN
CALSCALE:GREGORIAN
METHOD:PUBLISH
X-ORIGINAL-URL:https://homepage.asg-huerth.de
X-WR-CALDESC:Veranstaltungen für Albert-Schweitzer-Gymnasium Hürth
REFRESH-INTERVAL;VALUE=DURATION:PT1H
X-Robots-Tag:noindex
X-PUBLISHED-TTL:PT1H
BEGIN:VTIMEZONE
TZID:Europe/Berlin
BEGIN:DAYLIGHT
TZOFFSETFROM:+0100
TZOFFSETTO:+0200
TZNAME:CEST
DTSTART:20260329T010000
END:DAYLIGHT
BEGIN:STANDARD
TZOFFSETFROM:+0200
TZOFFSETTO:+0100
TZNAME:CET
DTSTART:20261025T010000
END:STANDARD
END:VTIMEZONE
BEGIN:VEVENT
DTSTART;VALUE=DATE:20260608
DTEND;VALUE=DATE:20260609
DTSTAMP:20260425T003838
CREATED:20260209T162512Z
LAST-MODIFIED:20260211T143546Z
UID:16200-1780876800-1780963199@homepage.asg-huerth.de
SUMMARY:8: Gewalt- und Sexualprävention (Workshop der AWO)
DESCRIPTION:
URL:https://homepage.asg-huerth.de/terminkalender/8-gewalt-und-sexualpraevention-workshop-der-awo/
CATEGORIES:Zweites Halbjahr
END:VEVENT
BEGIN:VEVENT
DTSTART;TZID=Europe/Berlin:20260608T080000
DTEND;TZID=Europe/Berlin:20260608T094000
DTSTAMP:20260425T003838
CREATED:20260115T210658Z
LAST-MODIFIED:20260211T143546Z
UID:15436-1780905600-1780911600@homepage.asg-huerth.de
SUMMARY:EF: ZK NT Deutsch
DESCRIPTION:
URL:https://homepage.asg-huerth.de/terminkalender/__trashed-60__trashed-2/
CATEGORIES:Zweites Halbjahr
END:VEVENT
END:VCALENDAR