BEGIN:VCALENDAR
VERSION:2.0
PRODID:-//Albert-Schweitzer-Gymnasium Hürth - ECPv6.6.1//NONSGML v1.0//EN
CALSCALE:GREGORIAN
METHOD:PUBLISH
X-WR-CALNAME:Albert-Schweitzer-Gymnasium Hürth
X-ORIGINAL-URL:https://homepage.asg-huerth.de
X-WR-CALDESC:Veranstaltungen für Albert-Schweitzer-Gymnasium Hürth
REFRESH-INTERVAL;VALUE=DURATION:PT1H
X-Robots-Tag:noindex
X-PUBLISHED-TTL:PT1H
BEGIN:VTIMEZONE
TZID:Europe/Berlin
BEGIN:DAYLIGHT
TZOFFSETFROM:+0100
TZOFFSETTO:+0200
TZNAME:CEST
DTSTART:20260329T010000
END:DAYLIGHT
BEGIN:STANDARD
TZOFFSETFROM:+0200
TZOFFSETTO:+0100
TZNAME:CET
DTSTART:20261025T010000
END:STANDARD
END:VTIMEZONE
BEGIN:VEVENT
DTSTART;TZID=Europe/Berlin:20260714T114500
DTEND;TZID=Europe/Berlin:20260714T180000
DTSTAMP:20260425T021013
CREATED:20260107T190112Z
LAST-MODIFIED:20260211T143547Z
UID:15443-1784029500-1784052000@homepage.asg-huerth.de
SUMMARY:Zeugniskonferenzen ab 11.30 Uhr (Studienzeit für alle Schüler:innen)
DESCRIPTION:
URL:https://homepage.asg-huerth.de/terminkalender/zeugniskonferenzen-ab-11-30-uhr-studienzeit-fuer-alle-schuelerinnen/
CATEGORIES:Zweites Halbjahr
END:VEVENT
END:VCALENDAR