BEGIN:VCALENDAR
VERSION:2.0
PRODID:-//Albert-Schweitzer-Gymnasium Hürth - ECPv6.6.1//NONSGML v1.0//EN
CALSCALE:GREGORIAN
METHOD:PUBLISH
X-WR-CALNAME:Albert-Schweitzer-Gymnasium Hürth
X-ORIGINAL-URL:https://homepage.asg-huerth.de
X-WR-CALDESC:Veranstaltungen für Albert-Schweitzer-Gymnasium Hürth
REFRESH-INTERVAL;VALUE=DURATION:PT1H
X-Robots-Tag:noindex
X-PUBLISHED-TTL:PT1H
BEGIN:VTIMEZONE
TZID:Europe/Berlin
BEGIN:DAYLIGHT
TZOFFSETFROM:+0100
TZOFFSETTO:+0200
TZNAME:CEST
DTSTART:20260329T010000
END:DAYLIGHT
BEGIN:STANDARD
TZOFFSETFROM:+0200
TZOFFSETTO:+0100
TZNAME:CET
DTSTART:20261025T010000
END:STANDARD
END:VTIMEZONE
BEGIN:VEVENT
DTSTART;VALUE=DATE:20260716
DTEND;VALUE=DATE:20260717
DTSTAMP:20260425T022210
CREATED:20260209T162515Z
LAST-MODIFIED:20260211T143548Z
UID:16221-1784160000-1784246399@homepage.asg-huerth.de
SUMMARY:EF/Q1: Wandertag
DESCRIPTION:
URL:https://homepage.asg-huerth.de/terminkalender/ef-q1-wandertag-2/
CATEGORIES:Zweites Halbjahr
END:VEVENT
BEGIN:VEVENT
DTSTART;VALUE=DATE:20260716
DTEND;VALUE=DATE:20260717
DTSTAMP:20260425T022210
CREATED:20260209T162515Z
LAST-MODIFIED:20260211T143547Z
UID:16220-1784160000-1784246399@homepage.asg-huerth.de
SUMMARY:5-10: Sportfest
DESCRIPTION:
URL:https://homepage.asg-huerth.de/terminkalender/5-10-sportfest-2/
CATEGORIES:Zweites Halbjahr
END:VEVENT
END:VCALENDAR