BEGIN:VCALENDAR
VERSION:2.0
PRODID:-//Albert-Schweitzer-Gymnasium Hürth - ECPv6.6.1//NONSGML v1.0//EN
CALSCALE:GREGORIAN
METHOD:PUBLISH
X-WR-CALNAME:Albert-Schweitzer-Gymnasium Hürth
X-ORIGINAL-URL:https://homepage.asg-huerth.de
X-WR-CALDESC:Veranstaltungen für Albert-Schweitzer-Gymnasium Hürth
REFRESH-INTERVAL;VALUE=DURATION:PT1H
X-Robots-Tag:noindex
X-PUBLISHED-TTL:PT1H
BEGIN:VTIMEZONE
TZID:Europe/Berlin
BEGIN:DAYLIGHT
TZOFFSETFROM:+0100
TZOFFSETTO:+0200
TZNAME:CEST
DTSTART:20260329T010000
END:DAYLIGHT
BEGIN:STANDARD
TZOFFSETFROM:+0200
TZOFFSETTO:+0100
TZNAME:CET
DTSTART:20261025T010000
END:STANDARD
END:VTIMEZONE
BEGIN:VEVENT
DTSTART;VALUE=DATE:20260525
DTEND;VALUE=DATE:20260527
DTSTAMP:20260424T192801
CREATED:20260209T162511Z
LAST-MODIFIED:20260211T143545Z
UID:16198-1779667200-1779839999@homepage.asg-huerth.de
SUMMARY:Pfingstferien
DESCRIPTION:
URL:https://homepage.asg-huerth.de/terminkalender/pfingstferien/
CATEGORIES:Zweites Halbjahr
END:VEVENT
BEGIN:VEVENT
DTSTART;TZID=Europe/Berlin:20260528T090000
DTEND;TZID=Europe/Berlin:20260528T113000
DTSTAMP:20260424T192801
CREATED:20260107T180652Z
LAST-MODIFIED:20260211T143545Z
UID:15273-1779958800-1779967800@homepage.asg-huerth.de
SUMMARY:10: ZP10 Mathe
DESCRIPTION:
URL:https://homepage.asg-huerth.de/terminkalender/__trashed-32__trashed/
CATEGORIES:Zweites Halbjahr
END:VEVENT
BEGIN:VEVENT
DTSTART;TZID=Europe/Berlin:20260528T150000
DTEND;TZID=Europe/Berlin:20260528T173000
DTSTAMP:20260424T192801
CREATED:20260107T180652Z
LAST-MODIFIED:20260211T143545Z
UID:15274-1779980400-1779989400@homepage.asg-huerth.de
SUMMARY:neue 5: Kennenlernnachmittag
DESCRIPTION:
URL:https://homepage.asg-huerth.de/terminkalender/__trashed-31__trashed/
CATEGORIES:Zweites Halbjahr
END:VEVENT
BEGIN:VEVENT
DTSTART;TZID=Europe/Berlin:20260529T080000
DTEND;TZID=Europe/Berlin:20260529T123500
DTSTAMP:20260424T192801
CREATED:20260107T180651Z
LAST-MODIFIED:20260211T143545Z
UID:15275-1780041600-1780058100@homepage.asg-huerth.de
SUMMARY:EF: ZK Deutsch
DESCRIPTION:
URL:https://homepage.asg-huerth.de/terminkalender/__trashed-27__trashed/
CATEGORIES:Zweites Halbjahr
END:VEVENT
BEGIN:VEVENT
DTSTART;TZID=Europe/Berlin:20260602T090000
DTEND;TZID=Europe/Berlin:20260602T123500
DTSTAMP:20260424T192801
CREATED:20260115T210657Z
LAST-MODIFIED:20260211T143546Z
UID:15431-1780390800-1780403700@homepage.asg-huerth.de
SUMMARY:10: Nachschreibtermin ZP10 Deutsch
DESCRIPTION:
URL:https://homepage.asg-huerth.de/terminkalender/__trashed-31__trashed-2/
CATEGORIES:Zweites Halbjahr
END:VEVENT
BEGIN:VEVENT
DTSTART;TZID=Europe/Berlin:20260602T193000
DTEND;TZID=Europe/Berlin:20260602T210000
DTSTAMP:20260424T192801
CREATED:20260115T210658Z
LAST-MODIFIED:20260211T143546Z
UID:15432-1780428600-1780434000@homepage.asg-huerth.de
SUMMARY:3. Schulkonferenz
DESCRIPTION:
URL:https://homepage.asg-huerth.de/terminkalender/__trashed-32__trashed-2/
CATEGORIES:Zweites Halbjahr
END:VEVENT
BEGIN:VEVENT
DTSTART;TZID=Europe/Berlin:20260603T080000
DTEND;TZID=Europe/Berlin:20260603T094000
DTSTAMP:20260424T192801
CREATED:20260115T210658Z
LAST-MODIFIED:20260211T143546Z
UID:15433-1780473600-1780479600@homepage.asg-huerth.de
SUMMARY:EF: ZK Mathematik
DESCRIPTION:
URL:https://homepage.asg-huerth.de/terminkalender/__trashed-33__trashed-2/
CATEGORIES:Zweites Halbjahr
END:VEVENT
BEGIN:VEVENT
DTSTART;TZID=Europe/Berlin:20260603T090000
DTEND;TZID=Europe/Berlin:20260603T113000
DTSTAMP:20260424T192801
CREATED:20260115T210658Z
LAST-MODIFIED:20260211T143546Z
UID:15434-1780477200-1780486200@homepage.asg-huerth.de
SUMMARY:10: Nachschreibtermin ZP10 Englisch
DESCRIPTION:
URL:https://homepage.asg-huerth.de/terminkalender/__trashed-51__trashed-3/
CATEGORIES:Zweites Halbjahr
END:VEVENT
BEGIN:VEVENT
DTSTART;VALUE=DATE:20260604
DTEND;VALUE=DATE:20260605
DTSTAMP:20260424T192801
CREATED:20260209T162512Z
LAST-MODIFIED:20260211T143546Z
UID:16199-1780531200-1780617599@homepage.asg-huerth.de
SUMMARY:Fronleichnam (Feiertag)
DESCRIPTION:
URL:https://homepage.asg-huerth.de/terminkalender/fronleichnam-feiertag-2/
CATEGORIES:Zweites Halbjahr
END:VEVENT
BEGIN:VEVENT
DTSTART;VALUE=DATE:20260608
DTEND;VALUE=DATE:20260609
DTSTAMP:20260424T192801
CREATED:20260209T162512Z
LAST-MODIFIED:20260211T143546Z
UID:16200-1780876800-1780963199@homepage.asg-huerth.de
SUMMARY:8: Gewalt- und Sexualprävention (Workshop der AWO)
DESCRIPTION:
URL:https://homepage.asg-huerth.de/terminkalender/8-gewalt-und-sexualpraevention-workshop-der-awo/
CATEGORIES:Zweites Halbjahr
END:VEVENT
BEGIN:VEVENT
DTSTART;TZID=Europe/Berlin:20260608T080000
DTEND;TZID=Europe/Berlin:20260608T094000
DTSTAMP:20260424T192801
CREATED:20260115T210658Z
LAST-MODIFIED:20260211T143546Z
UID:15436-1780905600-1780911600@homepage.asg-huerth.de
SUMMARY:EF: ZK NT Deutsch
DESCRIPTION:
URL:https://homepage.asg-huerth.de/terminkalender/__trashed-60__trashed-2/
CATEGORIES:Zweites Halbjahr
END:VEVENT
BEGIN:VEVENT
DTSTART;TZID=Europe/Berlin:20260609T090000
DTEND;TZID=Europe/Berlin:20260609T113000
DTSTAMP:20260424T192801
CREATED:20260115T210658Z
LAST-MODIFIED:20260211T143546Z
UID:15437-1780995600-1781004600@homepage.asg-huerth.de
SUMMARY:10: Nachschreibtermin ZP10 Mathematik
DESCRIPTION:
URL:https://homepage.asg-huerth.de/terminkalender/__trashed-61__trashed-3/
CATEGORIES:Zweites Halbjahr
END:VEVENT
BEGIN:VEVENT
DTSTART;VALUE=DATE:20260610
DTEND;VALUE=DATE:20260611
DTSTAMP:20260424T192801
CREATED:20260209T162512Z
LAST-MODIFIED:20260211T143546Z
UID:16201-1781049600-1781135999@homepage.asg-huerth.de
SUMMARY:8: Gewalt- und Sexualprävention (Workshop der AWO)
DESCRIPTION:
URL:https://homepage.asg-huerth.de/terminkalender/8-gewalt-und-sexualpraevention-workshop-der-awo-2/
CATEGORIES:Zweites Halbjahr
END:VEVENT
BEGIN:VEVENT
DTSTART;TZID=Europe/Berlin:20260611T080000
DTEND;TZID=Europe/Berlin:20260611T094000
DTSTAMP:20260424T192801
CREATED:20260115T210658Z
LAST-MODIFIED:20260211T143546Z
UID:15438-1781164800-1781170800@homepage.asg-huerth.de
SUMMARY:EF: ZK NT Mathematik
DESCRIPTION:
URL:https://homepage.asg-huerth.de/terminkalender/__trashed-62__trashed-3/
CATEGORIES:Zweites Halbjahr
END:VEVENT
BEGIN:VEVENT
DTSTART;VALUE=DATE:20260615
DTEND;VALUE=DATE:20260616
DTSTAMP:20260424T192801
CREATED:20260209T162512Z
LAST-MODIFIED:20260211T143546Z
UID:16202-1781481600-1781567999@homepage.asg-huerth.de
SUMMARY:8: Gewalt- und Sexualprävention (Workshop der AWO)
DESCRIPTION:
URL:https://homepage.asg-huerth.de/terminkalender/8-gewalt-und-sexualpraevention-workshop-der-awo-3/
CATEGORIES:Zweites Halbjahr
END:VEVENT
BEGIN:VEVENT
DTSTART;VALUE=DATE:20260616
DTEND;VALUE=DATE:20260617
DTSTAMP:20260424T192801
CREATED:20260209T162513Z
LAST-MODIFIED:20260211T143546Z
UID:16203-1781568000-1781654399@homepage.asg-huerth.de
SUMMARY:10: Bekanntgabe der Vor- und Prüfungsnoten ZP 10
DESCRIPTION:
URL:https://homepage.asg-huerth.de/terminkalender/10-bekanntgabe-der-vor-und-pruefungsnoten-zp-10/
CATEGORIES:Zweites Halbjahr
END:VEVENT
BEGIN:VEVENT
DTSTART;VALUE=DATE:20260616
DTEND;VALUE=DATE:20260617
DTSTAMP:20260424T192801
CREATED:20260211T143548Z
LAST-MODIFIED:20260211T143548Z
UID:16300-1781568000-1781654399@homepage.asg-huerth.de
SUMMARY:Generalprobe Theater-AG
DESCRIPTION:
URL:https://homepage.asg-huerth.de/terminkalender/generalprobe-theater-ag/
LOCATION:Aula
CATEGORIES:Zweites Halbjahr
END:VEVENT
BEGIN:VEVENT
DTSTART;TZID=Europe/Berlin:20260617T190000
DTEND;TZID=Europe/Berlin:20260617T220000
DTSTAMP:20260424T192801
CREATED:20260209T162513Z
LAST-MODIFIED:20260211T143546Z
UID:16204-1781722800-1781733600@homepage.asg-huerth.de
SUMMARY:Aufführung der Theater-AG: Herr der Fliegen (Premiere)
DESCRIPTION:
URL:https://homepage.asg-huerth.de/terminkalender/auffuehrung-der-theater-ag-herr-der-fliegen-premiere/
LOCATION:Aula
CATEGORIES:Zweites Halbjahr
END:VEVENT
BEGIN:VEVENT
DTSTART;TZID=Europe/Berlin:20260619T110000
DTEND;TZID=Europe/Berlin:20260619T140000
DTSTAMP:20260424T192801
CREATED:20260209T162513Z
LAST-MODIFIED:20260211T143546Z
UID:16205-1781866800-1781877600@homepage.asg-huerth.de
SUMMARY:Aufführung der Theater-AG: Herr der Fliegen
DESCRIPTION:
URL:https://homepage.asg-huerth.de/terminkalender/auffuehrung-der-theater-ag-herr-der-fliegen/
CATEGORIES:Zweites Halbjahr
END:VEVENT
BEGIN:VEVENT
DTSTART;TZID=Europe/Berlin:20260623T190000
DTEND;TZID=Europe/Berlin:20260623T220000
DTSTAMP:20260424T192801
CREATED:20260209T162513Z
LAST-MODIFIED:20260211T143546Z
UID:16206-1782241200-1782252000@homepage.asg-huerth.de
SUMMARY:Aufführung der Theater-AG: Herr der Fliegen (Derniere)
DESCRIPTION:
URL:https://homepage.asg-huerth.de/terminkalender/auffuehrung-der-theater-ag-herr-der-fliegen-derniere/
LOCATION:Aula
CATEGORIES:Zweites Halbjahr
END:VEVENT
BEGIN:VEVENT
DTSTART;TZID=Europe/Berlin:20260624T100000
DTEND;TZID=Europe/Berlin:20260624T130000
DTSTAMP:20260424T192801
CREATED:20260209T162513Z
LAST-MODIFIED:20260211T143546Z
UID:16207-1782295200-1782306000@homepage.asg-huerth.de
SUMMARY:Aufführung der Theater-AG: Herr der Fliegen (Schulaufführung für Schüler:innen)
DESCRIPTION:
URL:https://homepage.asg-huerth.de/terminkalender/auffuehrung-der-theater-ag-herr-der-fliegen-schulauffuehrung-fuer-schuelerinnen/
LOCATION:Aula
CATEGORIES:Zweites Halbjahr
END:VEVENT
BEGIN:VEVENT
DTSTART;VALUE=DATE:20260626
DTEND;VALUE=DATE:20260627
DTSTAMP:20260424T192801
CREATED:20260209T162513Z
LAST-MODIFIED:20260211T143546Z
UID:16208-1782432000-1782518399@homepage.asg-huerth.de
SUMMARY:10: Mündliche Abweichungsprüfungen ZP 10
DESCRIPTION:
URL:https://homepage.asg-huerth.de/terminkalender/10-muendliche-abweichungspruefungen-zp-10/
CATEGORIES:Zweites Halbjahr
END:VEVENT
BEGIN:VEVENT
DTSTART;VALUE=DATE:20260630
DTEND;VALUE=DATE:20260701
DTSTAMP:20260424T192801
CREATED:20260115T212843Z
LAST-MODIFIED:20260316T054105Z
UID:15777-1782777600-1782863999@homepage.asg-huerth.de
SUMMARY:Lehrerausflug (Studientag für alle Schüler:innen)
DESCRIPTION:
URL:https://homepage.asg-huerth.de/terminkalender/__trashed-40__trashed-2/
CATEGORIES:Zweites Halbjahr
END:VEVENT
BEGIN:VEVENT
DTSTART;VALUE=DATE:20260701
DTEND;VALUE=DATE:20260702
DTSTAMP:20260424T192801
CREATED:20260209T162513Z
LAST-MODIFIED:20260211T143546Z
UID:16209-1782864000-1782950399@homepage.asg-huerth.de
SUMMARY:Technikaufbau Schulkonzert
DESCRIPTION:
URL:https://homepage.asg-huerth.de/terminkalender/technikaufbau-schulkonzert/
LOCATION:Aula
CATEGORIES:Zweites Halbjahr
END:VEVENT
BEGIN:VEVENT
DTSTART;VALUE=DATE:20260702
DTEND;VALUE=DATE:20260704
DTSTAMP:20260424T192801
CREATED:20260209T162513Z
LAST-MODIFIED:20260211T143547Z
UID:16210-1782950400-1783123199@homepage.asg-huerth.de
SUMMARY:Generalproben Schulkonzert
DESCRIPTION:
URL:https://homepage.asg-huerth.de/terminkalender/generalproben-schulkonzert/
LOCATION:Aula
CATEGORIES:Zweites Halbjahr
END:VEVENT
BEGIN:VEVENT
DTSTART;VALUE=DATE:20260707
DTEND;VALUE=DATE:20260708
DTSTAMP:20260424T192801
CREATED:20260209T162514Z
LAST-MODIFIED:20260211T143547Z
UID:16211-1783382400-1783468799@homepage.asg-huerth.de
SUMMARY:6: NIM-Kurs Exkursion zum DLR (zwei Kurse)
DESCRIPTION:
URL:https://homepage.asg-huerth.de/terminkalender/6-nim-kurs-exkursion-zum-dlr-zwei-kurse/
CATEGORIES:Zweites Halbjahr
END:VEVENT
BEGIN:VEVENT
DTSTART;VALUE=DATE:20260708
DTEND;VALUE=DATE:20260711
DTSTAMP:20260424T192801
CREATED:20260209T162514Z
LAST-MODIFIED:20260211T143547Z
UID:16212-1783468800-1783727999@homepage.asg-huerth.de
SUMMARY:EF: Französichklasse nach Paris
DESCRIPTION:
URL:https://homepage.asg-huerth.de/terminkalender/ef-franzoesichklasse-nach-paris/
CATEGORIES:Zweites Halbjahr
END:VEVENT
BEGIN:VEVENT
DTSTART;TZID=Europe/Berlin:20260708T190000
DTEND;TZID=Europe/Berlin:20260708T220000
DTSTAMP:20260424T192801
CREATED:20260115T215712Z
LAST-MODIFIED:20260211T143547Z
UID:15966-1783537200-1783548000@homepage.asg-huerth.de
SUMMARY:Schulkonzert
DESCRIPTION:
URL:https://homepage.asg-huerth.de/terminkalender/__trashed-30/
LOCATION:Aula
CATEGORIES:Zweites Halbjahr
END:VEVENT
BEGIN:VEVENT
DTSTART;VALUE=DATE:20260709
DTEND;VALUE=DATE:20260710
DTSTAMP:20260424T192801
CREATED:20260209T162514Z
LAST-MODIFIED:20260211T143547Z
UID:16213-1783555200-1783641599@homepage.asg-huerth.de
SUMMARY:6: NIM-Kurs Exkursion zum DLR (zwei Kurse)
DESCRIPTION:
URL:https://homepage.asg-huerth.de/terminkalender/6-nim-kurs-exkursion-zum-dlr-zwei-kurse-2/
CATEGORIES:Zweites Halbjahr
END:VEVENT
BEGIN:VEVENT
DTSTART;TZID=Europe/Berlin:20260709T190000
DTEND;TZID=Europe/Berlin:20260709T220000
DTSTAMP:20260424T192802
CREATED:20260115T215712Z
LAST-MODIFIED:20260211T143547Z
UID:15968-1783623600-1783634400@homepage.asg-huerth.de
SUMMARY:Schulkonzert
DESCRIPTION:
URL:https://homepage.asg-huerth.de/terminkalender/__trashed-65/
LOCATION:Aula
CATEGORIES:Zweites Halbjahr
END:VEVENT
END:VCALENDAR